BEGIN:VCALENDAR
VERSION:2.0
PRODID:icalendar-ruby
CALSCALE:GREGORIAN
METHOD:PUBLISH
BEGIN:VEVENT
DTSTAMP:20260420T064311Z
UID:7-795995@unityofthehuachucas.org
DTSTART:20260917T200000Z
DTEND:20260917T203000Z
CLASS:PUBLIC
CREATED:20260419T231741
DESCRIPTION:"Meditation is bringing the mind home."   – Sogyal Rinpoche
 \nJoin us every Thursday at 1:00pm with our meditation guru Darlene!
LAST-MODIFIED:20260419T231741
LOCATION:Unity of the Huachucas
SUMMARY:Meditation Group
URL;VALUE=URI:https://www.unityofthehuachucas.org/events/meditation-group/2
 026-09-17
ATTACH;FILENAME=Med-April-2026.jpg;FMTTYPE=image/jpeg:https://dq5pwpg1q8ru0
 .cloudfront.net/2026/03/30/16/45/36/7b5dbe79-bb0e-4a6d-908e-a0a722974fa8/M
 ed-April-2026.jpg
END:VEVENT
END:VCALENDAR
