BEGIN:VCALENDAR
VERSION:2.0
PRODID:icalendar-ruby
CALSCALE:GREGORIAN
METHOD:PUBLISH
BEGIN:VEVENT
DTSTAMP:20260420T072041Z
UID:6-795752@unityofthehuachucas.org
DTSTART:20261015T210000Z
DTEND:20261015T223000Z
CLASS:PUBLIC
CREATED:20260419T231741
DESCRIPTION:We are reading "The Untethered Soul" by Michael A. Singer\nThis
  book serves as a mirror to help you look inward\, sort through the confu
 sion and distraction\, and find your true self. \n Join us on Thursday's
  at 2pm!
LAST-MODIFIED:20260419T231741
LOCATION:Unity of the Huachucas
SUMMARY:Book Study Group
URL;VALUE=URI:https://www.unityofthehuachucas.org/events/book-study-group/2
 026-10-15
ATTACH;FILENAME=bs-2026.jpg;FMTTYPE=image/jpeg:https://dq5pwpg1q8ru0.cloudf
 ront.net/2026/03/30/16/43/43/11aa6fd5-cc1e-424c-af87-12adf9860d18/bs-2026.
 jpg
END:VEVENT
END:VCALENDAR
